BEGIN:VCALENDAR
VERSION:2.0
PRODID:DPCALENDAR
CALSCALE:GREGORIAN
BEGIN:VTIMEZONE
TZID:Europe/Copenhagen
BEGIN:STANDARD
DTSTART:20251026T010000
TZOFFSETFROM:+0200
TZOFFSETTO:+0100
TZNAME:CET
END:STANDARD
BEGIN:STANDARD
DTSTART:20261025T010000
TZOFFSETFROM:+0200
TZOFFSETTO:+0100
TZNAME:CET
END:STANDARD
BEGIN:DAYLIGHT
DTSTART:20260329T010000
TZOFFSETFROM:+0100
TZOFFSETTO:+0200
TZNAME:CEST
END:DAYLIGHT
END:VTIMEZONE
X-WR-TIMEZONE:Europe/Copenhagen
BEGIN:VEVENT
DTSTART;TZID=Europe/Copenhagen:20181117T140000
DTEND;TZID=Europe/Copenhagen:20181117T170000
UID:F498F42A-D8F5-4C71-A344-4341E2340E3A
SUMMARY:Arkivernes Dag
CREATED:20180920T122235Z
DTSTAMP:20180920T122235Z
DESCRIPTION:Temaet på Arkivernes dag er "Gemt eller Glemt".\NGrejs Lokalarkiv byder i år på lidt godt fra "de gode gamle dage".\NDer bliver smagsprøver på kager og retter, som du sikkert aldrig har smagt før.\NHar du en gammel opskrift eller andet liggende, modtager arkivet det gerne. \NVi glæder os til at se Jer.
X-ALT-DESC;FMTTYPE=text/html:Temaet på Arkivernes dag er "Gemt eller Glemt".Grejs Lokalarkiv byder i år på lidt godt fra "de gode gamle dage".Der bliver smagsprøver på kager og retter, som du sikkert aldrig har smagt før.Har du en gammel opskrift eller andet liggende, modtager arkivet det gerne. Vi glæder os til at se Jer.
URL:https://test.grejs.dk/component/dpcalendar/event/36?calid=29
X-ACCESS:1
X-HITS:91
X-COLOR:3366cc
X-SHOW-END-TIME:1
END:VEVENT
BEGIN:VEVENT
DTSTART;TZID=Europe/Copenhagen:20181203T140000
DTEND;TZID=Europe/Copenhagen:20181203T160000
UID:2F740DF7-77CB-4612-8EC6-854BEB6862F1
SUMMARY:Hyggeligt julemøde
CREATED:20181029T161844Z
DTSTAMP:20181029T161844Z
DESCRIPTION:Traditionen tro holder Grejs Lokalhistorisk Forening et hyggeligt julemøde i Grejs Borgergård.\NI år kommer Inga Steiniche Jensen (kendt fra Kirken) og fortæller om Julen, da hun var barn.\NI pausen serveres julegløgg og æbleskiver, samt kaffe og småkager.\NEfter pausen fortæller Inga nogle gode julehistorier.\NVi synger selvfølgelig julen ind, og Tove Stubager leverer musikken hertil.\NEntre er 40.- kroner.\NAlle er velkommen.
X-ALT-DESC;FMTTYPE=text/html:Traditionen tro holder Grejs Lokalhistorisk Forening et hyggeligt julemøde i Grejs Borgergård.I år kommer Inga Steiniche Jensen (kendt fra Kirken) og fortæller om Julen, da hun var barn.I pausen serveres julegløgg og æbleskiver, samt kaffe og småkager.Efter pausen fortæller Inga nogle gode julehistorier.Vi synger selvfølgelig julen ind, og Tove Stubager leverer musikken hertil.Entre er 40.- kroner.Alle er velkommen.
URL:https://test.grejs.dk/component/dpcalendar/event/86?calid=29
X-ACCESS:1
X-HITS:68
X-COLOR:3366cc
X-SHOW-END-TIME:1
END:VEVENT
BEGIN:VEVENT
DTSTART;TZID=Europe/Copenhagen:20190204T190000
DTEND;TZID=Europe/Copenhagen:20190204T213000
UID:B0BCAEE7-31EE-476F-B8FB-1915EDB591B6
SUMMARY:Generalforsamling i Lokalhistorisk forening
CREATED:20181213T102005Z
DTSTAMP:20181213T102005Z
DESCRIPTION:I henhold til vedtægterne for Grejs Lokalhistorisk Forening afholdes der generalforsamling i Grejs Borgergård. Efter generalforsamling er der kaffe. Herefter fortæller Vigand Rasmussen (historiker, forfatter m.m.) om anlæg af bane og vejanlæg gennem Grejsdalen. Vigand Rasmussen kendes også for hans ugentlige klumme i VAF om "gamle dage."
X-ALT-DESC;FMTTYPE=text/html:<p>I henhold til vedtægterne for Grejs Lokalhistorisk Forening afholdes der generalforsamling i Grejs Borgergård. Efter generalforsamling er der kaffe. Herefter fortæller Vigand Rasmussen (historiker, forfatter m.m.) om anlæg af bane og vejanlæg gennem Grejsdalen. Vigand Rasmussen kendes også for hans ugentlige klumme i VAF om "gamle dage."</p>
LAST-MODIFIED:20190127T151731Z
SEQUENCE:3905846
URL:https://test.grejs.dk/component/dpcalendar/event/107?calid=29
X-ACCESS:1
X-HITS:375
X-COLOR:3366cc
X-SHOW-END-TIME:1
END:VEVENT
BEGIN:VEVENT
DTSTART;TZID=Europe/Copenhagen:20191109T110000
DTEND;TZID=Europe/Copenhagen:20191109T160000
UID:68F40865-0AF1-4339-AE2C-50CAF08B5B4B
SUMMARY:Arkivernes dag
CREATED:20190329T094747Z
DTSTAMP:20190329T094747Z
DESCRIPTION:Arkivernes dag i Grejs Kulturcenter\NGrejs Lokalarkiv er åbent fra kl. 11 til 16.\NTemaet for Arkivernes dag er ikke bestemt endnu.\NMen kom og besøg Jeres Lokalarkiv, der er meget spændende gemt her.
X-ALT-DESC;FMTTYPE=text/html:Arkivernes dag i Grejs KulturcenterGrejs Lokalarkiv er åbent fra kl. 11 til 16.Temaet for Arkivernes dag er ikke bestemt endnu.Men kom og besøg Jeres Lokalarkiv, der er meget spændende gemt her.
URL:https://test.grejs.dk/component/dpcalendar/event/180?calid=29
X-ACCESS:1
X-HITS:775
X-COLOR:3366cc
X-SHOW-END-TIME:1
END:VEVENT
BEGIN:VEVENT
DTSTART;TZID=Europe/Copenhagen:20191202T140000
DTEND;TZID=Europe/Copenhagen:20191202T160000
UID:E05169FB-F01D-4C98-9FFD-1544BA99CF6A
SUMMARY:Julemøde i Grejs Lokalarkiv
CREATED:20190329T095617Z
DTSTAMP:20190329T095617Z
DESCRIPTION:Grejs Lokalhistorisk Forening holder Julemøde i Kulturcentret. Programmet er ikke bestemt endnu, men vi synger julens sange og får selvfølgelig nogle gode julehistorier. Der bliver serveret æbleskiver og gløgg samt kaffe og småkager. 
X-ALT-DESC;FMTTYPE=text/html:Grejs Lokalhistorisk Forening holder Julemøde i Kulturcentret. Programmet er ikke bestemt endnu, men vi synger julens sange og får selvfølgelig nogle gode julehistorier. Der bliver serveret æbleskiver og gløgg samt kaffe og småkager. 
URL:https://test.grejs.dk/component/dpcalendar/event/181?calid=29
X-ACCESS:1
X-HITS:722
X-COLOR:3366cc
X-SHOW-END-TIME:1
END:VEVENT
BEGIN:VEVENT
DTSTART;TZID=Europe/Copenhagen:20200203T190000
DTEND;TZID=Europe/Copenhagen:20200203T213000
UID:EC595C82-AA9D-47F0-89B2-7B9402DCF051
SUMMARY:Generalforsamling i Grejs Lokalhistorisk Forening
CREATED:20190329T100243Z
DTSTAMP:20190329T100243Z
DESCRIPTION:Generalforsamling i Grejs Lokalhistorisk Forening afholdes i Grejs Kulturcenter. Dagsorden ifølge vedtægterne. Efter generalforsamlingen er der kaffe med kage. Aftenen slutter med foredrag af Mogens Ladegaard om Sønderjyllands genforening med Danmark i 1920.
X-ALT-DESC;FMTTYPE=text/html:Generalforsamling i Grejs Lokalhistorisk Forening afholdes i Grejs Kulturcenter. Dagsorden ifølge vedtægterne. Efter generalforsamlingen er der kaffe med kage. Aftenen slutter med foredrag af Mogens Ladegaard om Sønderjyllands genforening med Danmark i 1920.
URL:https://test.grejs.dk/component/dpcalendar/event/182?calid=29
X-ACCESS:1
X-HITS:527
X-COLOR:3366cc
X-SHOW-END-TIME:1
END:VEVENT
BEGIN:VEVENT
DTSTART;TZID=Europe/Copenhagen:20210920T140000
DTEND;TZID=Europe/Copenhagen:20210920T160000
UID:99A95B24-D3DD-471C-A5C7-C5F6E01EBD0C
SUMMARY:Generalforsamling i Lokalhistorisk Forening
CREATED:20210801T193143Z
DTSTAMP:20210801T193143Z
DESCRIPTION:TIDSPUNKT ER ÆNDRET TIL OM EFTERMIDDAGEN ! Generalforsamling i Lokalhistorisk Forening. \NDagsorden kan ses på foreningens hjemmeside.  
X-ALT-DESC;FMTTYPE=text/html:TIDSPUNKT ER ÆNDRET TIL OM EFTERMIDDAGEN ! Generalforsamling i Lokalhistorisk Forening. Dagsorden kan ses på foreningens hjemmeside.  
LAST-MODIFIED:20210917T074252Z
SEQUENCE:4018269
URL:https://test.grejs.dk/component/dpcalendar/event/602?calid=29
X-ACCESS:1
X-HITS:375
X-COLOR:3366cc
X-SHOW-END-TIME:1
END:VEVENT
BEGIN:VEVENT
DTSTART;TZID=Europe/Copenhagen:20211113T140000
DTEND;TZID=Europe/Copenhagen:20211113T160000
UID:CC029EF0-7C52-4567-8539-CB9AA55D2EFA
SUMMARY:Åbent Hus i Lokalarkivet
CREATED:20211024T084550Z
DTSTAMP:20211024T084550Z
DESCRIPTION:Åbent Hus i Lokalarkivet i Kulturcentret.
X-ALT-DESC;FMTTYPE=text/html:Åbent Hus i Lokalarkivet i Kulturcentret.
URL:https://test.grejs.dk/component/dpcalendar/event/611?calid=29
X-ACCESS:1
X-HITS:407
X-COLOR:3366cc
X-SHOW-END-TIME:1
END:VEVENT
BEGIN:VEVENT
DTSTART;TZID=Europe/Copenhagen:20211206T140000
DTEND;TZID=Europe/Copenhagen:20211206T160000
UID:5E9E8694-8333-4AD5-B1F5-7584EA887A70
SUMMARY:Julehygge møde
CREATED:20211018T142422Z
DTSTAMP:20211018T142422Z
DESCRIPTION:Lokalhistorisk forening: Julehygge møde eftermiddag. Det foregår i Kulturcentrets festlokale nord.
X-ALT-DESC;FMTTYPE=text/html:Lokalhistorisk forening: Julehygge møde eftermiddag. Det foregår i Kulturcentrets festlokale nord.
LAST-MODIFIED:20211204T090440Z
SEQUENCE:4041618
URL:https://test.grejs.dk/component/dpcalendar/event/610?calid=29
X-ACCESS:1
X-HITS:641
X-COLOR:3366cc
X-SHOW-END-TIME:1
END:VEVENT
BEGIN:VEVENT
DTSTART;TZID=Europe/Copenhagen:20220207T140000
DTEND;TZID=Europe/Copenhagen:20220207T160000
UID:BF68DC5C-1974-4142-B651-775BD01416A4
SUMMARY:Generalforsamling - Lokalhistorisk Forening
CREATED:20220106T142546Z
DTSTAMP:20220106T142546Z
DESCRIPTION:Generalforsamling i Lokalhistorisk Forening. Afholdes i Kulturcentret - lokale Nord.\NDagsorden følger vedtægterne.\NMed venlig hilsen Bestyrelsen\N 
X-ALT-DESC;FMTTYPE=text/html:Generalforsamling i Lokalhistorisk Forening. Afholdes i Kulturcentret - lokale Nord.Dagsorden følger vedtægterne.Med venlig hilsen Bestyrelsen 
URL:https://test.grejs.dk/component/dpcalendar/event/661?calid=29
X-ACCESS:1
X-HITS:473
X-COLOR:3366cc
X-SHOW-END-TIME:1
END:VEVENT
BEGIN:VEVENT
DTSTART;TZID=Europe/Copenhagen:20220405T190000
DTEND;TZID=Europe/Copenhagen:20220405T213000
UID:55117624-8564-426D-8EB5-0747AE2B4DF0
SUMMARY:Vindelev guldskatten
CREATED:20220117T153605Z
DTSTAMP:20220117T153605Z
DESCRIPTION:Kom og hør om fundet af Vindelev guldskatten... Et af Danmarkshistoriens hidtil største, rigeste og flotteste guldskatte er blevet fundet ved Vindelev, lidt uden for Jelling. Det enorme fund på knap 3/4 kg guld, bl.a. bestående af store medaljoner på størrelse med underkopper, har igen set dagens lys, efter 1500 år i den danske muld. 
X-ALT-DESC;FMTTYPE=text/html:Kom og hør om fundet af Vindelev guldskatten... Et af Danmarkshistoriens hidtil største, rigeste og flotteste guldskatte er blevet fundet ved Vindelev, lidt uden for Jelling. Det enorme fund på knap 3/4 kg guld, bl.a. bestående af store medaljoner på størrelse med underkopper, har igen set dagens lys, efter 1500 år i den danske muld. 
LAST-MODIFIED:20220224T134720Z
SEQUENCE:3276675
URL:https://test.grejs.dk/component/dpcalendar/event/664?calid=29
X-ACCESS:1
X-HITS:553
X-COLOR:3366cc
X-SHOW-END-TIME:1
END:VEVENT
BEGIN:VEVENT
DTSTART;TZID=Europe/Copenhagen:20221112T140000
DTEND;TZID=Europe/Copenhagen:20221112T160000
UID:09A7B305-DCEA-4363-A0DC-3DC0B35454F2
SUMMARY:Arkivernes Dag
CREATED:20221021T141222Z
DTSTAMP:20221021T141222Z
DESCRIPTION:Arkivernes Dag i Lokalhistorisk Arkiv med åbent hus i vores lokale i Kulturcentret.
X-ALT-DESC;FMTTYPE=text/html:Arkivernes Dag i Lokalhistorisk Arkiv med åbent hus i vores lokale i Kulturcentret.
URL:https://test.grejs.dk/component/dpcalendar/event/814?calid=29
X-ACCESS:1
X-HITS:438
X-COLOR:3366cc
X-SHOW-END-TIME:1
END:VEVENT
BEGIN:VEVENT
DTSTART;TZID=Europe/Copenhagen:20221212T140000
DTEND;TZID=Europe/Copenhagen:20221212T160000
UID:FAE3B370-91A3-4F9F-A8FF-D523F5D9B21C
SUMMARY:Julemøde
CREATED:20221021T140938Z
DTSTAMP:20221021T140938Z
DESCRIPTION:Julemøde i Lokalhistorisk Forening med julesange, æbleskiver og gløgg mv.
X-ALT-DESC;FMTTYPE=text/html:Julemøde i Lokalhistorisk Forening med julesange, æbleskiver og gløgg mv.
URL:https://test.grejs.dk/component/dpcalendar/event/813?calid=29
X-ACCESS:1
X-HITS:412
X-COLOR:3366cc
X-SHOW-END-TIME:1
END:VEVENT
BEGIN:VEVENT
DTSTART;TZID=Europe/Copenhagen:20230206T140000
DTEND;TZID=Europe/Copenhagen:20230206T160000
UID:B3FE9FC8-A0B0-4848-89FB-F97A6995D002
SUMMARY:Generalforsamling i Lokalhistorisk Forening
CREATED:20230117T123145Z
DTSTAMP:20230117T123145Z
DESCRIPTION:Generalforsamling i Grejs Lokalhistorisk Forening \NMandag den 6. februar 2023 fra kl. 14 i Grejs Kulturcenter, lokale Nord.\NDagsorden ifølge vedtægterne.\NEfter kaffen serverer vi kaffe/te og fastelavnsboller. Interview med vores lokale verdensmester i løb for kvinder, Lilly Jeppesen. Vi kommer ind på, hvordan Lily fik interesse for løb og de oplevelser, hun har haft med sine indtil nu 52 maratonløb.
X-ALT-DESC;FMTTYPE=text/html:Generalforsamling i Grejs Lokalhistorisk Forening Mandag den 6. februar 2023 fra kl. 14 i Grejs Kulturcenter, lokale Nord.Dagsorden ifølge vedtægterne.Efter kaffen serverer vi kaffe/te og fastelavnsboller. Interview med vores lokale verdensmester i løb for kvinder, Lilly Jeppesen. Vi kommer ind på, hvordan Lily fik interesse for løb og de oplevelser, hun har haft med sine indtil nu 52 maratonløb.
URL:https://test.grejs.dk/component/dpcalendar/event/840?calid=29
X-ACCESS:1
X-HITS:374
X-COLOR:3366cc
X-SHOW-END-TIME:0
END:VEVENT
BEGIN:VEVENT
DTSTART;TZID=Europe/Copenhagen:20230501T140000
DTEND;TZID=Europe/Copenhagen:20230501T160000
UID:6D880757-ABD8-4223-8BA1-511A675CE25B
SUMMARY:Åbent i Lokalarkivet 
CREATED:20230313T123731Z
DTSTAMP:20230313T123731Z
DESCRIPTION:Åbent i Lokalarkivets lokale i Kulturcentret. 
X-ALT-DESC;FMTTYPE=text/html:Åbent i Lokalarkivets lokale i Kulturcentret. 
URL:https://test.grejs.dk/component/dpcalendar/event/901?calid=29
X-ACCESS:1
X-HITS:460
X-COLOR:3366cc
X-SHOW-END-TIME:1
END:VEVENT
BEGIN:VEVENT
DTSTART;TZID=Europe/Copenhagen:20230515T190000
DTEND;TZID=Europe/Copenhagen:20230515T210000
UID:ABAB5E4D-A42D-40B2-BE93-79F31BC7A0AA
SUMMARY:Åbent i Lokalarkivet
CREATED:20230313T123820Z
DTSTAMP:20230313T123820Z
DESCRIPTION:Åbent i Lokalarkivets lokale i Kulturcentret. 
X-ALT-DESC;FMTTYPE=text/html:Åbent i Lokalarkivets lokale i Kulturcentret. 
URL:https://test.grejs.dk/component/dpcalendar/event/902?calid=29
X-ACCESS:1
X-HITS:398
X-COLOR:3366cc
X-SHOW-END-TIME:1
END:VEVENT
BEGIN:VEVENT
DTSTART;TZID=Europe/Copenhagen:20230605T140000
DTEND;TZID=Europe/Copenhagen:20230605T160000
UID:3C960D9A-4987-4B6B-878E-22EA7F5DAC53
SUMMARY:Åbent i Lokalarkivet
CREATED:20230313T123906Z
DTSTAMP:20230313T123906Z
DESCRIPTION:Åbent i Lokalarkivets lokale i Kulturcentret. 
X-ALT-DESC;FMTTYPE=text/html:Åbent i Lokalarkivets lokale i Kulturcentret. 
URL:https://test.grejs.dk/component/dpcalendar/event/903?calid=29
X-ACCESS:1
X-HITS:405
X-COLOR:3366cc
X-SHOW-END-TIME:1
END:VEVENT
BEGIN:VEVENT
DTSTART;TZID=Europe/Copenhagen:20230619T190000
DTEND;TZID=Europe/Copenhagen:20230619T210000
UID:57246691-482F-45E7-90BE-D72B18C05EEE
SUMMARY:Åbent i Lokalarkivet
CREATED:20230517T120511Z
DTSTAMP:20230517T120511Z
DESCRIPTION:Åbent for besøg i Lokalarkivet i Kulturcentret.  
X-ALT-DESC;FMTTYPE=text/html:Åbent for besøg i Lokalarkivet i Kulturcentret.  
LAST-MODIFIED:20230517T120735Z
SEQUENCE:144
URL:https://test.grejs.dk/component/dpcalendar/event/932?calid=29
X-ACCESS:1
X-HITS:398
X-COLOR:3366cc
X-SHOW-END-TIME:1
END:VEVENT
BEGIN:VEVENT
DTSTART;TZID=Europe/Copenhagen:20230816T190000
DTEND;TZID=Europe/Copenhagen:20230816T210000
UID:1937A281-A97F-49F5-9549-F9EF853396EC
SUMMARY:Åbent i Lokalarkivet
CREATED:20230812T152403Z
DTSTAMP:20230812T152403Z
DESCRIPTION:Åbent i Lokalarkivet i Kulturcentret.
X-ALT-DESC;FMTTYPE=text/html:Åbent i Lokalarkivet i Kulturcentret.
URL:https://test.grejs.dk/component/dpcalendar/event/1010?calid=29
X-ACCESS:1
X-HITS:171
X-COLOR:3366cc
X-SHOW-END-TIME:1
END:VEVENT
BEGIN:VEVENT
DTSTART;TZID=Europe/Copenhagen:20230904T140000
DTEND;TZID=Europe/Copenhagen:20230904T160000
UID:628D0D01-495D-4735-92E6-5AA5C4E04410
SUMMARY:Åbent i Lokalarkivet
CREATED:20230812T151921Z
DTSTAMP:20230812T151921Z
DESCRIPTION:Åbent i Lokalarkivet i Kulturcentret.
X-ALT-DESC;FMTTYPE=text/html:Åbent i Lokalarkivet i Kulturcentret.
URL:https://test.grejs.dk/component/dpcalendar/event/1008?calid=29
X-ACCESS:1
X-HITS:297
X-COLOR:3366cc
X-SHOW-END-TIME:1
END:VEVENT
BEGIN:VEVENT
DTSTART;TZID=Europe/Copenhagen:20230920T190000
DTEND;TZID=Europe/Copenhagen:20230920T210000
UID:EA8A0404-0B65-4374-AE22-7F0E25AA1014
SUMMARY:Åbent i Lokalarkivet
CREATED:20230904T183402Z
DTSTAMP:20230904T183402Z
DESCRIPTION:Åbent i Lokalarkivet i Kulturcentret.
X-ALT-DESC;FMTTYPE=text/html:Åbent i Lokalarkivet i Kulturcentret.
URL:https://test.grejs.dk/component/dpcalendar/event/1015?calid=29
X-ACCESS:1
X-HITS:264
X-COLOR:3366cc
X-SHOW-END-TIME:1
END:VEVENT
BEGIN:VEVENT
DTSTART;TZID=Europe/Copenhagen:20231002T140000
DTEND;TZID=Europe/Copenhagen:20231002T160000
UID:ADE6F91D-AB84-4CC3-9FEC-B2E2C175439C
SUMMARY:Åbent i Lokalarkivet
CREATED:20230904T183548Z
DTSTAMP:20230904T183548Z
DESCRIPTION:Åbent i Lokalarkivet i Kulturcentret.
X-ALT-DESC;FMTTYPE=text/html:Åbent i Lokalarkivet i Kulturcentret.
LAST-MODIFIED:20231014T115937Z
SEQUENCE:3432229
URL:https://test.grejs.dk/component/dpcalendar/event/1016?calid=29
X-ACCESS:1
X-HITS:321
X-COLOR:cc9c0a
X-SHOW-END-TIME:1
END:VEVENT
BEGIN:VEVENT
DTSTART;TZID=Europe/Copenhagen:20231106T140000
DTEND;TZID=Europe/Copenhagen:20231106T160000
UID:5A0AB172-9520-4CAE-B76D-8F56485863D5
SUMMARY:Åbent i Lokalarkivet
CREATED:20230904T183906Z
DTSTAMP:20230904T183906Z
DESCRIPTION:Åbent i Lokalarkivet i Kulturcentret.
X-ALT-DESC;FMTTYPE=text/html:Åbent i Lokalarkivet i Kulturcentret.
LAST-MODIFIED:20231014T120023Z
SEQUENCE:3432077
URL:https://test.grejs.dk/component/dpcalendar/event/1018?calid=29
X-ACCESS:1
X-HITS:368
X-COLOR:cc9c0a
X-SHOW-END-TIME:1
END:VEVENT
BEGIN:VEVENT
DTSTART;TZID=Europe/Copenhagen:20231111T140000
DTEND;TZID=Europe/Copenhagen:20231111T160000
UID:3ADC1A9C-F01C-458B-BD2D-7D2869726A92
SUMMARY:Arkivernes Dag
CREATED:20230904T181411Z
DTSTAMP:20230904T181411Z
DESCRIPTION:Arkivernes Dag - kom til åbent hus i Lokalarkivet i Kulturcentret. 
X-ALT-DESC;FMTTYPE=text/html:Arkivernes Dag - kom til åbent hus i Lokalarkivet i Kulturcentret. 
URL:https://test.grejs.dk/component/dpcalendar/event/1012?calid=29
X-ACCESS:1
X-HITS:261
X-COLOR:3366cc
X-SHOW-END-TIME:1
END:VEVENT
BEGIN:VEVENT
DTSTART;TZID=Europe/Copenhagen:20231120T190000
DTEND;TZID=Europe/Copenhagen:20231120T210000
UID:1A884E2F-7E4C-476C-9464-85BB90406877
SUMMARY:Åbent i Lokalarkivet
CREATED:20231009T072056Z
DTSTAMP:20231009T072056Z
DESCRIPTION:Åbent i Lokalarkivet i Kulturcentret.
X-ALT-DESC;FMTTYPE=text/html:Åbent i Lokalarkivet i Kulturcentret.
LAST-MODIFIED:20231014T120046Z
SEQUENCE:448790
URL:https://test.grejs.dk/component/dpcalendar/event/1057?calid=29
X-ACCESS:1
X-HITS:175
X-COLOR:cc9c0a
X-SHOW-END-TIME:1
END:VEVENT
BEGIN:VEVENT
DTSTART;TZID=Europe/Copenhagen:20231204T140000
DTEND;TZID=Europe/Copenhagen:20231204T160000
UID:02CE50D6-5CB3-4B57-ADF6-52AA98186158
SUMMARY:Historisk julehygge med Lokalhistorisk Forening
CREATED:20230904T181715Z
DTSTAMP:20230904T181715Z
DESCRIPTION:Lokalhistorisk Forening inviterer til julehygge i Kulturcentret.\NVi byder traditionen tro på gløgg og æbleskiver samt kaffe og lidt småt.\NKom og vær med til historisk julehygge et par timer. 
X-ALT-DESC;FMTTYPE=text/html:Lokalhistorisk Forening inviterer til julehygge i Kulturcentret.Vi byder traditionen tro på gløgg og æbleskiver samt kaffe og lidt småt.Kom og vær med til historisk julehygge et par timer. 
LAST-MODIFIED:20231127T124214Z
SEQUENCE:7237499
URL:https://test.grejs.dk/component/dpcalendar/event/1013?calid=29
X-ACCESS:1
X-HITS:315
X-COLOR:ed4217
X-SHOW-END-TIME:1
END:VEVENT
BEGIN:VEVENT
DTSTART;TZID=Europe/Copenhagen:20231218T190000
DTEND;TZID=Europe/Copenhagen:20231218T210000
UID:2EDFAF09-7D16-4E7E-8FBA-B22B8DDF0531
SUMMARY:Åbent i Lokalarkivet
CREATED:20231009T072325Z
DTSTAMP:20231009T072325Z
DESCRIPTION:Åbent i Lokalarkivet i Kulturcentret.
X-ALT-DESC;FMTTYPE=text/html:Åbent i Lokalarkivet i Kulturcentret.
LAST-MODIFIED:20231014T115856Z
SEQUENCE:448531
URL:https://test.grejs.dk/component/dpcalendar/event/1058?calid=29
X-ACCESS:1
X-HITS:312
X-COLOR:cc9c0a
X-SHOW-END-TIME:1
END:VEVENT
BEGIN:VEVENT
DTSTART;TZID=Europe/Copenhagen:20240115T190000
DTEND;TZID=Europe/Copenhagen:20240115T210000
UID:8E05AB5A-44AB-4DE6-B347-920ACC39F754
SUMMARY:Åbent i Lokalarkivet
CREATED:20231014T114910Z
DTSTAMP:20231014T114910Z
DESCRIPTION:Åbent i Lokalarkivet i Kulturcentret
X-ALT-DESC;FMTTYPE=text/html:Åbent i Lokalarkivet i Kulturcentret
LAST-MODIFIED:20231014T115741Z
SEQUENCE:511
URL:https://test.grejs.dk/component/dpcalendar/event/1060?calid=29
X-ACCESS:1
X-HITS:320
X-COLOR:cc9c0a
X-SHOW-END-TIME:1
END:VEVENT
BEGIN:VEVENT
DTSTART;TZID=Europe/Copenhagen:20240205T140000
DTEND;TZID=Europe/Copenhagen:20240205T160000
UID:3E9383CD-50CB-41A5-872B-754C436F40BE
SUMMARY:Generalforsamling i Lokalhistorisk Forening
CREATED:20240109T095953Z
DTSTAMP:20240109T095953Z
DESCRIPTION:Generalforsamling i Grejs Lokalhistorisk Forening i Grejs Kulturcenter, lokale Nord. Dagsorden ifølge vedtægterne. Efter generalforsamlingen er der kaffe/te og fastelavnsboller. 
X-ALT-DESC;FMTTYPE=text/html:<p>Generalforsamling i Grejs Lokalhistorisk Forening i Grejs Kulturcenter, lokale Nord. Dagsorden ifølge vedtægterne. Efter generalforsamlingen er der kaffe/te og fastelavnsboller. </p>
LAST-MODIFIED:20240126T224613Z
SEQUENCE:1514780
URL:https://test.grejs.dk/component/dpcalendar/event/1116?calid=29
X-ACCESS:1
X-HITS:284
X-COLOR:3730c7
X-SHOW-END-TIME:0
END:VEVENT
BEGIN:VEVENT
DTSTART;TZID=Europe/Copenhagen:20240304T140000
DTEND;TZID=Europe/Copenhagen:20240304T160000
UID:E9216290-C4B9-4A2C-8B8C-2F2D005891F8
SUMMARY:Åbent i Lokalarkivet
CREATED:20240213T081711Z
DTSTAMP:20240213T081711Z
DESCRIPTION:Åbent i Lokalarkivet i Kulturcentret. Kom og få en snak om Grejs´lokale historie og se, hvad vi har liggende i arkivet.  
X-ALT-DESC;FMTTYPE=text/html:Åbent i Lokalarkivet i Kulturcentret. Kom og få en snak om Grejs´lokale historie og se, hvad vi har liggende i arkivet.  
LAST-MODIFIED:20240214T102129Z
SEQUENCE:93858
URL:https://test.grejs.dk/component/dpcalendar/event/1158?calid=29
X-ACCESS:1
X-HITS:258
X-COLOR:e07f3e
X-SHOW-END-TIME:1
END:VEVENT
BEGIN:VEVENT
DTSTART;TZID=Europe/Copenhagen:20240401T140000
DTEND;TZID=Europe/Copenhagen:20240401T160000
UID:82BCEE96-BA1B-45E6-9FF5-FD2FC5B1158E
SUMMARY:Åbent i Lokalarkivet
CREATED:20240213T081754Z
DTSTAMP:20240213T081754Z
DESCRIPTION:Åbent i Lokalarkivet i Kulturcentret. Kom og få en snak om Grejs´lokale historie og se, hvad vi har liggende i arkivet. 
X-ALT-DESC;FMTTYPE=text/html:Åbent i Lokalarkivet i Kulturcentret. Kom og få en snak om Grejs´lokale historie og se, hvad vi har liggende i arkivet. 
LAST-MODIFIED:20240214T102158Z
SEQUENCE:93844
URL:https://test.grejs.dk/component/dpcalendar/event/1159?calid=29
X-ACCESS:1
X-HITS:179
X-COLOR:e07f3e
X-SHOW-END-TIME:1
END:VEVENT
BEGIN:VEVENT
DTSTART;TZID=Europe/Copenhagen:20240506T140000
DTEND;TZID=Europe/Copenhagen:20240506T160000
UID:DE482794-DDC2-439E-900F-EB3FC99747FC
SUMMARY:Åbent i Lokalarkivet
CREATED:20240213T081839Z
DTSTAMP:20240213T081839Z
DESCRIPTION:Åbent i Lokalarkivet i Kulturcentret. Kom og få en snak om Grejs´lokale historie og se, hvad vi har liggende i arkivet. 
X-ALT-DESC;FMTTYPE=text/html:Åbent i Lokalarkivet i Kulturcentret. Kom og få en snak om Grejs´lokale historie og se, hvad vi har liggende i arkivet. 
LAST-MODIFIED:20240214T102216Z
SEQUENCE:93817
URL:https://test.grejs.dk/component/dpcalendar/event/1160?calid=29
X-ACCESS:1
X-HITS:242
X-COLOR:e07f3e
X-SHOW-END-TIME:1
END:VEVENT
BEGIN:VEVENT
DTSTART;TZID=Europe/Copenhagen:20240603T140000
DTEND;TZID=Europe/Copenhagen:20240603T160000
UID:5DBCF710-632F-41DA-8079-494E842E17E4
SUMMARY:Åbent i Lokalarkivet
CREATED:20240214T102003Z
DTSTAMP:20240214T102003Z
DESCRIPTION:Åbent i Lokalarkivet i Kulturcentret.\NKom og få en snak om Grejs´lokale historie og se, hvad vi har liggende i arkivet. 
X-ALT-DESC;FMTTYPE=text/html:Åbent i Lokalarkivet i Kulturcentret.Kom og få en snak om Grejs´lokale historie og se, hvad vi har liggende i arkivet. 
URL:https://test.grejs.dk/component/dpcalendar/event/1161?calid=29
X-ACCESS:1
X-HITS:295
X-COLOR:e07f3e
X-SHOW-END-TIME:1
END:VEVENT
BEGIN:VEVENT
DTSTART;TZID=Europe/Copenhagen:20240902T140000
DTEND;TZID=Europe/Copenhagen:20240902T160000
UID:A00F5DB6-ADAB-4670-87E9-077982AF2B34
SUMMARY:Åbent i Lokalarkivet
CREATED:20240309T151501Z
DTSTAMP:20240309T151501Z
DESCRIPTION:Åbent i Lokalarkivet i Kulturcentret
X-ALT-DESC;FMTTYPE=text/html:Åbent i Lokalarkivet i Kulturcentret
LAST-MODIFIED:20240309T151944Z
SEQUENCE:283
URL:https://test.grejs.dk/component/dpcalendar/event/1209?calid=29
X-ACCESS:1
X-HITS:528
X-COLOR:cc410a
X-SHOW-END-TIME:1
END:VEVENT
BEGIN:VEVENT
DTSTART;TZID=Europe/Copenhagen:20241007T140000
DTEND;TZID=Europe/Copenhagen:20241007T160000
UID:0A81C50E-CA1E-4F82-B7A5-9642E10940C3
SUMMARY:Åbent i Lokalarkivet
CREATED:20240309T151549Z
DTSTAMP:20240309T151549Z
DESCRIPTION:Åbent i Lokalarkivet i Kulturcentret
X-ALT-DESC;FMTTYPE=text/html:Åbent i Lokalarkivet i Kulturcentret
LAST-MODIFIED:20240309T152114Z
SEQUENCE:325
URL:https://test.grejs.dk/component/dpcalendar/event/1210?calid=29
X-ACCESS:1
X-HITS:125
X-COLOR:e07116
X-SHOW-END-TIME:1
END:VEVENT
BEGIN:VEVENT
DTSTART;TZID=Europe/Copenhagen:20241007T160000
DTEND;TZID=Europe/Copenhagen:20241007T180000
UID:8F6F457A-9561-458A-9E3D-938A7ADCA4FD
SUMMARY:Kom til levende lokalhistorie
CREATED:20240820T141503Z
DTSTAMP:20240820T141503Z
DESCRIPTION:Grejs Lokalhistorisk Forening inviterer til en hyggelig eftermiddag for børn og voksne i alle aldre hos Inger Marie Larsen på Vestermarksvej 15 i Grejs mandag den 7. oktober 2024 fra kl. 16. Der bliver tændt op i det gamle brændekomfur ude i stalden, og du kan høre lidt om historien om komfuret og brugen af det i gamle dage. Der serveres kaffe, te - og saftevand til børnene. Og så bliver der lavet vafler på det gamle vaffeljern over brændeilden! Vi vil blive glade for en tilmelding på SMS til Inger Marie på tlf. 29 10 30 85. Pris for voksne 20 kr. - børn gratis.
X-ALT-DESC;FMTTYPE=text/html:Grejs Lokalhistorisk Forening inviterer til en hyggelig eftermiddag for børn og voksne i alle aldre hos Inger Marie Larsen på Vestermarksvej 15 i Grejs mandag den 7. oktober 2024 fra kl. 16. Der bliver tændt op i det gamle brændekomfur ude i stalden, og du kan høre lidt om historien om komfuret og brugen af det i gamle dage. Der serveres kaffe, te - og saftevand til børnene. Og så bliver der lavet vafler på det gamle vaffeljern over brændeilden! Vi vil blive glade for en tilmelding på SMS til Inger Marie på tlf. 29 10 30 85. Pris for voksne 20 kr. - børn gratis.
LAST-MODIFIED:20240820T141823Z
SEQUENCE:200
URL:https://test.grejs.dk/component/dpcalendar/event/1264?calid=29
X-ACCESS:1
X-HITS:113
X-COLOR:3366cc
X-SHOW-END-TIME:1
END:VEVENT
BEGIN:VEVENT
DTSTART;TZID=Europe/Copenhagen:20241104T140000
DTEND;TZID=Europe/Copenhagen:20241104T160000
UID:1D867B13-32D4-4DFC-99F8-169E493B8A0D
SUMMARY:Åbent i Lokalarkivet
CREATED:20240309T151643Z
DTSTAMP:20240309T151643Z
DESCRIPTION:Åbent i Lokalarkivet i Kulturcentret
X-ALT-DESC;FMTTYPE=text/html:Åbent i Lokalarkivet i Kulturcentret
LAST-MODIFIED:20240309T152144Z
SEQUENCE:301
URL:https://test.grejs.dk/component/dpcalendar/event/1211?calid=29
X-ACCESS:1
X-HITS:89
X-COLOR:e67315
X-SHOW-END-TIME:1
END:VEVENT
BEGIN:VEVENT
DTSTART;TZID=Europe/Copenhagen:20241109T140000
DTEND;TZID=Europe/Copenhagen:20241109T160000
UID:439DCD5B-2331-4A25-A02E-AA44FADD1679
SUMMARY:Arkivernes Dag
CREATED:20240309T151758Z
DTSTAMP:20240309T151758Z
DESCRIPTION:Arkivernes Dag holdes i vores lokale i Kulturcentret.\NKom og se, hvad vi har i arkivet og få kigget i gamle avisudklip, billeder, beskrivelser og andet godt fra Grejs og omegen.  
X-ALT-DESC;FMTTYPE=text/html:Arkivernes Dag holdes i vores lokale i Kulturcentret.Kom og se, hvad vi har i arkivet og få kigget i gamle avisudklip, billeder, beskrivelser og andet godt fra Grejs og omegen.  
LAST-MODIFIED:20240911T074138Z
SEQUENCE:16043020
URL:https://test.grejs.dk/component/dpcalendar/event/1212?calid=29
X-ACCESS:1
X-HITS:34
X-COLOR:f07918
X-SHOW-END-TIME:1
END:VEVENT
BEGIN:VEVENT
DTSTART;TZID=Europe/Copenhagen:20241202T140000
DTEND;TZID=Europe/Copenhagen:20241202T160000
UID:61EEFF6C-F2B3-45F8-928E-A03FC528EEDB
SUMMARY:Historisk julehygge i arkivet
CREATED:20240309T152537Z
DTSTAMP:20240309T152537Z
DESCRIPTION:Julehygge i arkivet - holdes i Kulturcentret med æbleskiver mv. - og en lille konkurrence
X-ALT-DESC;FMTTYPE=text/html:Julehygge i arkivet - holdes i Kulturcentret med æbleskiver mv. - og en lille konkurrence
URL:https://test.grejs.dk/component/dpcalendar/event/1213?calid=29
X-ACCESS:1
X-HITS:7
X-COLOR:d1440c
X-SHOW-END-TIME:1
END:VEVENT
END:VCALENDAR